BEGIN:VCALENDAR
VERSION:2.0
PRODID:LFV Website-Kit
METHOD:PUBLISH
BEGIN:VEVENT
UID:lfv-52f9c8d9-47d4-429d-a040-c83bba691a0e
LOCATION:
SUMMARY:150 Jahre Freiw. Feuerwehr Leobendorf e.V.
DESCRIPTION:Termin Link: https://www.kfv-bgl.de/termine/150-jahre-freiw-feuerwehr-leobendorf-ev-und-125-jahre-burschen-und-arbeiterverein-laufen/
URL:https://www.kfv-bgl.de/termine/150-jahre-freiw-feuerwehr-leobendorf-ev-und-125-jahre-burschen-und-arbeiterverein-laufen/
CLASS:PRIVATE
DTSTART;TZID=Europe/Berlin:20260529T000000
DTEND;TZID=Europe/Berlin:20260531T235900
DTSTAMP:20260420T030925Z
END:VEVENT
END:VCALENDAR