BEGIN:VCALENDAR
VERSION:2.0
PRODID:LFV Website-Kit
METHOD:PUBLISH
BEGIN:VEVENT
UID:lfv-fab73b63-730e-465f-8bc8-7a032dd1bc49
LOCATION:
SUMMARY:125 Jahre Feuerwehr Königssee
DESCRIPTION:125 Jahre Feuerwehr Königssee\n\nTermin Link: https://www.kfv-bgl.de/termine/125-jahre-feuerwehr-konigssee/
URL:https://www.kfv-bgl.de/termine/125-jahre-feuerwehr-konigssee/
CLASS:PRIVATE
DTSTART;TZID=Europe/Berlin:20260820T000000
DTEND;TZID=Europe/Berlin:20260823T235900
DTSTAMP:20260420T030925Z
END:VEVENT
END:VCALENDAR